BEGIN:VCALENDAR
VERSION:2.0
PRODID:-//Accurate Advantage - ECPv6.15.20//NONSGML v1.0//EN
CALSCALE:GREGORIAN
METHOD:PUBLISH
X-WR-CALNAME:Accurate Advantage
X-ORIGINAL-URL:https://accurateadvantage.us
X-WR-CALDESC:Events for Accurate Advantage
REFRESH-INTERVAL;VALUE=DURATION:PT1H
X-Robots-Tag:noindex
X-PUBLISHED-TTL:PT1H
BEGIN:VTIMEZONE
TZID:America/Anchorage
BEGIN:DAYLIGHT
TZOFFSETFROM:-0900
TZOFFSETTO:-0800
TZNAME:AKDT
DTSTART:20170312T110000
END:DAYLIGHT
BEGIN:STANDARD
TZOFFSETFROM:-0800
TZOFFSETTO:-0900
TZNAME:AKST
DTSTART:20171105T100000
END:STANDARD
BEGIN:DAYLIGHT
TZOFFSETFROM:-0900
TZOFFSETTO:-0800
TZNAME:AKDT
DTSTART:20180311T110000
END:DAYLIGHT
BEGIN:STANDARD
TZOFFSETFROM:-0800
TZOFFSETTO:-0900
TZNAME:AKST
DTSTART:20181104T100000
END:STANDARD
BEGIN:DAYLIGHT
TZOFFSETFROM:-0900
TZOFFSETTO:-0800
TZNAME:AKDT
DTSTART:20190310T110000
END:DAYLIGHT
BEGIN:STANDARD
TZOFFSETFROM:-0800
TZOFFSETTO:-0900
TZNAME:AKST
DTSTART:20191103T100000
END:STANDARD
END:VTIMEZONE
BEGIN:VEVENT
DTSTART;TZID=America/Anchorage:20180906T073000
DTEND;TZID=America/Anchorage:20180906T093000
DTSTAMP:20260422T102804
CREATED:20180828T070801Z
LAST-MODIFIED:20180828T070801Z
UID:10000254-1536219000-1536226200@accurateadvantage.us
SUMMARY:Private/Customized Instruction - OPEN
DESCRIPTION:With this option we offer one-on-one or small group instruction customized to best fit your firearm needs. Become familiar with a new handgun. Come shoot several different types of handguns before choosing one of your own. \nRe-sharpen stagnant skills to regain your defensive edge. Not into guns? Can’t carry at school or work? Learn defense with other\, less lethal options. Do you have a youth in your life who has always wanted to learn to shoot? Does your whole family want to learn to shoot? Book a Family Session\, or a Ladies Night Out\, or an office party. Within the boundaries of safety\, time-proven technique\, and effective instruction\, this course has many options! \nCost: $65/hour per shooter\nMinimum booking: 2 hours.\nPrice does not include range fees\, gun rentals or ammo purchased from Accurate Advantage.
URL:https://accurateadvantage.us/calendar/private-customized-instruction-open-23/2018-09-06/2/
LOCATION:Rabbit Creek Shooting Park\, 15222 Seward Hwy\, Anchorage\, AK\, 99503\, United States
CATEGORIES:Advanced Handgun,Basic Handgun,General Courses,Gun Cleaning Courses,Intermediate Handgun,Just for Kids,Private & Customized Instruction,Rifle Courses
ORGANIZER;CN="Accurate Advantage":MAILTO:info@accurateadvantage.us
GEO:61.0823109;-149.8334358
X-APPLE-STRUCTURED-LOCATION;VALUE=URI;X-ADDRESS=Rabbit Creek Shooting Park 15222 Seward Hwy Anchorage AK 99503 United States;X-APPLE-RADIUS=500;X-TITLE=15222 Seward Hwy:geo:-149.8334358,61.0823109
END:VEVENT
BEGIN:VEVENT
DTSTART;TZID=America/Anchorage:20180906T050000
DTEND;TZID=America/Anchorage:20180906T070000
DTSTAMP:20260422T102804
CREATED:20180828T070801Z
LAST-MODIFIED:20180828T070801Z
UID:10000253-1536210000-1536217200@accurateadvantage.us
SUMMARY:Private/Customized Instruction - OPEN
DESCRIPTION:With this option we offer one-on-one or small group instruction customized to best fit your firearm needs. Become familiar with a new handgun. Come shoot several different types of handguns before choosing one of your own. \nRe-sharpen stagnant skills to regain your defensive edge. Not into guns? Can’t carry at school or work? Learn defense with other\, less lethal options. Do you have a youth in your life who has always wanted to learn to shoot? Does your whole family want to learn to shoot? Book a Family Session\, or a Ladies Night Out\, or an office party. Within the boundaries of safety\, time-proven technique\, and effective instruction\, this course has many options! \nCost: $65/hour per shooter\nMinimum booking: 2 hours.\nPrice does not include range fees\, gun rentals or ammo purchased from Accurate Advantage.
URL:https://accurateadvantage.us/calendar/private-customized-instruction-open-23/2018-09-06/1/
LOCATION:Rabbit Creek Shooting Park\, 15222 Seward Hwy\, Anchorage\, AK\, 99503\, United States
CATEGORIES:Advanced Handgun,Basic Handgun,General Courses,Gun Cleaning Courses,Intermediate Handgun,Just for Kids,Private & Customized Instruction,Rifle Courses
ORGANIZER;CN="Accurate Advantage":MAILTO:info@accurateadvantage.us
GEO:61.0823109;-149.8334358
X-APPLE-STRUCTURED-LOCATION;VALUE=URI;X-ADDRESS=Rabbit Creek Shooting Park 15222 Seward Hwy Anchorage AK 99503 United States;X-APPLE-RADIUS=500;X-TITLE=15222 Seward Hwy:geo:-149.8334358,61.0823109
END:VEVENT
END:VCALENDAR