BEGIN:VCALENDAR
VERSION:2.0
PRODID:-//Accurate Advantage - ECPv6.15.15//NONSGML v1.0//EN
CALSCALE:GREGORIAN
METHOD:PUBLISH
X-WR-CALNAME:Accurate Advantage
X-ORIGINAL-URL:https://accurateadvantage.us
X-WR-CALDESC:Events for Accurate Advantage
REFRESH-INTERVAL;VALUE=DURATION:PT1H
X-Robots-Tag:noindex
X-PUBLISHED-TTL:PT1H
BEGIN:VTIMEZONE
TZID:America/Anchorage
BEGIN:DAYLIGHT
TZOFFSETFROM:-0900
TZOFFSETTO:-0800
TZNAME:AKDT
DTSTART:20240310T110000
END:DAYLIGHT
BEGIN:STANDARD
TZOFFSETFROM:-0800
TZOFFSETTO:-0900
TZNAME:AKST
DTSTART:20241103T100000
END:STANDARD
BEGIN:DAYLIGHT
TZOFFSETFROM:-0900
TZOFFSETTO:-0800
TZNAME:AKDT
DTSTART:20250309T110000
END:DAYLIGHT
BEGIN:STANDARD
TZOFFSETFROM:-0800
TZOFFSETTO:-0900
TZNAME:AKST
DTSTART:20251102T100000
END:STANDARD
BEGIN:DAYLIGHT
TZOFFSETFROM:-0900
TZOFFSETTO:-0800
TZNAME:AKDT
DTSTART:20260308T110000
END:DAYLIGHT
BEGIN:STANDARD
TZOFFSETFROM:-0800
TZOFFSETTO:-0900
TZNAME:AKST
DTSTART:20261101T100000
END:STANDARD
END:VTIMEZONE
BEGIN:VEVENT
DTSTART;TZID=America/Anchorage:20251107T173000
DTEND;TZID=America/Anchorage:20251107T213000
DTSTAMP:20260420T111714
CREATED:20250217T094405Z
LAST-MODIFIED:20250217T094405Z
UID:10000885-1762536600-1762551000@accurateadvantage.us
SUMMARY:INDOOR Basic Handgun 101
DESCRIPTION:INDOOR RANGE – private\, heated indoor range facility for temperate winter training.\nNote: a $25 range is included in this course fee\, required for a guest pass to Arctic Indoor Range. \nJoin us as we help you conquer the foundations of handgun function and effective use. This course is designed to be a low-pressure energetic training session that guides you through several concentrated hours of instruction\, practical drills\, and achievement. \nWe have two gifts to give through this foundational course: \nOptions: Though a gun would not be your first choice for defense\, we want to gift you options – having the safety\, proper mindset\, and effective abilities with a firearm changes the way you view the world around you. \nProcess: Many have pulled a trigger\, but they haven’t yet connected the necessary elements that create consistent accuracy. We give you a process that when followed results in repeatable accuracy and in skills usable even under extreme pressure. \nFoundations\, safety\, platform\, accuracy\, function\, malfunctions\, reloads\, state law\, defense rights\, and proper mindset are all topics covered in this informative foundational course. Previous handgun experience beneficial\, but not required. \nTotal Course Length: 4 hours \nRequired Equipment/Gear:\nSome of these items are available to rent/borrow; see below. \n\nPistol with at least 2 magazines or revolver with at least 2 speed loaders\n150 Rounds of ammo\nHip holster and magazine pouch – available to borrow\n\nProvided: \n\nEye & ear protection\nTargets and backers\n\nAvailable: (may incur an additional cost): \n\nHolsters\, magazine pouches & gun belts are available to borrow.\nAmmo – available from the host retailer\, Arctic Ammo\nRental firearms – Handgun ($15)\nRental Package Includes: Firearm\, magazines / speed loaders\, belt\, holster\, magazine pouch.\n\nEmail us at info@accurateadvantage.us to order or reserve equipment. \nCourse Cost: $200.00 (does include range fees)\nYour Next Steps: Check the calendar for upcoming courses and then register and pay for your course. Courses are filled on a first-paid\, first-serve basis.
URL:https://accurateadvantage.us/calendar/indoor-basic-handgun-101-3/
LOCATION:Arctic Ammo & Reloading / Arctic Indoor Range\, 4900 E Palmer - Wasilla Hwy\, Wasilla\, AK\, 99654\, United States
CATEGORIES:Basic Handgun
ORGANIZER;CN="Accurate Advantage":MAILTO:info@accurateadvantage.us
END:VEVENT
BEGIN:VEVENT
DTSTART;TZID=America/Anchorage:20251115T100000
DTEND;TZID=America/Anchorage:20251115T180000
DTSTAMP:20260420T111714
CREATED:20250217T094604Z
LAST-MODIFIED:20250217T094741Z
UID:10000886-1763200800-1763229600@accurateadvantage.us
SUMMARY:Eagle River Concealed Carry Day 1 – OPEN
DESCRIPTION:BIRCHWOOD RECREATION & SHOOTING PARK hosts this 2 day course – Register through them – see below\, or more info HERE \nThis course is for anyone 21 or more years of age who wishes to obtain a concealed handgun permit from the State of Alaska. Permits currently include NICS exemption\, are currently reciprocal with 37 states\, and are valid for ~5 years\, expiring on your birthday in the 5th year. \n\nREGISTRATION FOR THIS COURSE MUST BE COMPLETED WITH BIRCHWOOD SHOOTING PARK – please call them at (907) 688-2809 or log into your club automation member account with BRSP.  \n\nDay 1: With humor\, a lifetime of personal experience\, and an interactive format\, Accurate Advantage’s staff and a certified law enforcement officer coach students through the basic knowledge\, skill\, and mindset essential for lawful and effective firearm use for protection of self and family. Time flies when you’re having fun and learning from scenarios that actually happened encourages a more applicable understanding of this intense subject. Join us to learn about the law-abiding citizen’s right to justified self-defense. Classroom training on SIRT Laser pistols allows familiarity with presentations from a holster\, proper grip\, stance\, and sight picture giving you an advantage prior to the range qualification on day two. \nDay 2: Click HERE for more info about range day \nWhat: CHP Classroom – Day 1\nWhen: Saturday\, November 15th\nTime: 10:00am-6:00pm\nLocation: Birchwood Recreation & Shooting Park (Driving directions linked HERE)\nClubhouse Building Classroom 1\nAND\nWhat: CHP Range – Day 2\nWhen: Sunday\, November 16th\nTime: 2:00pm-6:00pm\nLocation: Birchwood Recreation & Shooting Park (Driving directions linked HERE)\nRange: E Range \nRound Count: 150-200 centerfire only (no rimfire)\nCourse Cost: Contact Birchwood\n \nStudents will be issued and must pass a written test as well as a shooting proficiency test for course completion.  \nPrevious handgun experience is required for this course. At AAAK we believe that the choice to live a protected lifestyle should come after a solid foundation of safety\, marksmanship and function has been established. Contact us with any questions! info@accurateadvantage.us or (907) 223-8617 \nClick here to view info about our Basic Handgun 101 course or Click here for info about a Private / Customized Instruction Session \nStudents are encouraged to bring a gun they already own. Firearms will be provided if a personal gun becomes unusable or if fit and function difficulties are effecting safety.\nA sturdy belt\, outside the waistband hip holster or an approved concealed carry holster\, and magazine pouch are also required\, but can be borrowed from Accurate Advantage for this course. \n\nREGISTRATION FOR THIS COURSE MUST BE COMPLETED WITH BIRCHWOOD SHOOTING PARK – please call them at (907) 688-2809 or log in and register through your active club automation member account with BRSP.
URL:https://accurateadvantage.us/calendar/eagle-river-concealed-carry-day-1-open-3/
LOCATION:Birchwood Recreational Shooting Park\, Eagle River\, AK\, United States
CATEGORIES:Carry Tailored / Concealed Carry
END:VEVENT
BEGIN:VEVENT
DTSTART;TZID=America/Anchorage:20251116T140000
DTEND;TZID=America/Anchorage:20251116T180000
DTSTAMP:20260420T111714
CREATED:20250217T094607Z
LAST-MODIFIED:20250217T094742Z
UID:10000887-1763301600-1763316000@accurateadvantage.us
SUMMARY:Eagle River Concealed Carry Day 2 – OPEN
DESCRIPTION:BIRCHWOOD RECREATION & SHOOTING PARK hosts this 2-day course – Register through them – see below\, or more info HERE \nThis course is for anyone 21 or more years of age who wishes to obtain a concealed handgun permit from the State of Alaska. Permits currently include NICS exemption\, are currently reciprocal with 37 states\, and are valid for ~5 years\, expiring on your birthday in the 5th year. \n\nREGISTRATION FOR THIS COURSE MUST BE COMPLETED WITH BIRCHWOOD SHOOTING PARK – please call them at (907) 688-2809 or log into your club automation member account with BRSP.  \n\nDay 1: Click HERE for more info about Day 1 \nDay 2: Through a series of scenario-based drills\, students will refresh basic marksmanship skills and will develop and demonstrate safe and effective firearm handling. Presentation and recovery from and back to a holster\, efficient reloads\, and effective malfunction clearing are learned as platform mastery is encouraged. Students will engage targets from a variety of defensive distances and will be coached through critical decision making within the defensive mindset. \nWhat: CHP Classroom – Day 1\nWhen: Saturday\, November 15th\nTime: 10:00am-6:00pm\nLocation: Birchwood Recreation & Shooting Park (Driving directions linked HERE)\nClubhouse Building Classroom 1\nAND\nWhat: CHP Range – Day 2\nWhen: Sunday\, November 16th\nTime: 2:00pm-6:00pm\nLocation: Birchwood Recreation & Shooting Park (Driving directions linked HERE)\nRange: E Range\nRound Count: 150-200 centerfire only (no rimfire)\nCourse Cost: Contact\n \nStudents will be issued and must pass a written test as well as a shooting proficiency test for course completion.  \nPrevious handgun experience is required for this course. At AAAK we believe that the choice to live a protected lifestyle should come after a solid foundation of safety\, marksmanship and function has been established. Contact us with any questions! info@accurateadvantage.us or (907) 223-8617 \nClick here to view info about our Basic Handgun 101 course or Click here for info about a Private / Customized Instruction Session \nStudents are encouraged to bring a gun they already own. Firearms will be provided if a personal gun becomes unusable or if fit and function difficulties are effecting safety.\nA sturdy belt\, outside the waistband hip holster or an approved concealed carry holster\, and magazine pouch are also required\, but can be borrowed from Accurate Advantage for this course. \n\nREGISTRATION FOR THIS COURSE MUST BE COMPLETED WITH BIRCHWOOD SHOOTING PARK – please call them at (907) 688-2809 or log in and register through your active club automation member account with BRSP.
URL:https://accurateadvantage.us/calendar/eagle-river-concealed-carry-day-2-open-3/
LOCATION:Birchwood Recreational Shooting Park\, Eagle River\, AK\, United States
CATEGORIES:Carry Tailored / Concealed Carry
ORGANIZER;CN="Accurate Advantage":MAILTO:info@accurateadvantage.us
END:VEVENT
END:VCALENDAR