BEGIN:VCALENDAR
VERSION:2.0
PRODID:-//Accurate Advantage - ECPv6.15.20//NONSGML v1.0//EN
CALSCALE:GREGORIAN
METHOD:PUBLISH
X-ORIGINAL-URL:https://accurateadvantage.us
X-WR-CALDESC:Events for Accurate Advantage
REFRESH-INTERVAL;VALUE=DURATION:PT1H
X-Robots-Tag:noindex
X-PUBLISHED-TTL:PT1H
BEGIN:VTIMEZONE
TZID:America/Anchorage
BEGIN:DAYLIGHT
TZOFFSETFROM:-0900
TZOFFSETTO:-0800
TZNAME:AKDT
DTSTART:20240310T110000
END:DAYLIGHT
BEGIN:STANDARD
TZOFFSETFROM:-0800
TZOFFSETTO:-0900
TZNAME:AKST
DTSTART:20241103T100000
END:STANDARD
BEGIN:DAYLIGHT
TZOFFSETFROM:-0900
TZOFFSETTO:-0800
TZNAME:AKDT
DTSTART:20250309T110000
END:DAYLIGHT
BEGIN:STANDARD
TZOFFSETFROM:-0800
TZOFFSETTO:-0900
TZNAME:AKST
DTSTART:20251102T100000
END:STANDARD
BEGIN:DAYLIGHT
TZOFFSETFROM:-0900
TZOFFSETTO:-0800
TZNAME:AKDT
DTSTART:20260308T110000
END:DAYLIGHT
BEGIN:STANDARD
TZOFFSETFROM:-0800
TZOFFSETTO:-0900
TZNAME:AKST
DTSTART:20261101T100000
END:STANDARD
END:VTIMEZONE
BEGIN:VEVENT
DTSTART;TZID=America/Anchorage:20251005T100000
DTEND;TZID=America/Anchorage:20251005T170000
DTSTAMP:20260422T052324
CREATED:20250722T011643Z
LAST-MODIFIED:20250725T081144Z
UID:10000888-1759658400-1759683600@accurateadvantage.us
SUMMARY:Alaska Mile
DESCRIPTION:SAVE THE DATE! October 5th\, 2025 – Willow Creek Air Park (postponed from August 2nd due to area fires)\n\n\n\nRegistration opens TODAY! Visit AccurateAdvantage.US/Register to claim your shoot spot!\nSpectator’s names can be included in the notes section\, each trigger puller must register individually.\n\n\n\nMore details to come\, but we DO know that this beautiful corner of the world will host drive-up access to the shooting platform and ample parking for competitors and spectators within walking distance of a BBQ tent\, an epic bonfire and large social area where we can safely view the shooting activity.\n\n\n\nShooters are welcome to shoot competitively\, or just for fun\, specifics will be detailed to those on our interest list. Join the info list by emailing info@accurateadvantage.us\nShooting participants will be required to engage a mid-range target prior to their attempt at a mile\, and competitor’s platform time will be limited\, though with rotations\, several opportunities should be available to engage a mile.\n\n\n\nThanks to Scott’s generosity and love of the shooting community\, the revamped Alaska Mile will be a fantastic challenge\, a memorable event\, and we couldn’t ask for a more perfect location! Thank you Scott\, Arctic Ammo and Reloading and Accurate Advantage for making this possible.\n\n\nSee you in October!\n\n\n\nCourse of Fire – \n\nRound count is unlimited\, plan to get a couple of rotations on the mile platform as time allows\nCompetitors start with rifles staged\, bipod and rear bag support in place. Competitors are not allowed to shoulder guns or look through their optic prior to stage start\nAmmo / or magazine must be in hand at time start\, turrets set to zero (dope must be dialed on the clock)\nFrom the start command\, competitors have 4 minutes to dial\, load\, and engage all three targets from large to small. The stage stops when the smallest target is impacted\nAfter 3 rounds have been fired\, each round fired in addition to the first 3 is given a time penalty of 5 seconds per round\nAfter attempting each target large to small\, a shooter may return to any target to gain wind or elevation info. Round count penalties apply. The stage stops when the smallest target is impacted.\nScoring time is captured from the time the last shot is fired
URL:https://accurateadvantage.us/calendar/alaska-mile/
LOCATION:AK
CATEGORIES:Rifle Courses
ORGANIZER;CN="Accurate Advantage":MAILTO:info@accurateadvantage.us
END:VEVENT
BEGIN:VEVENT
DTSTART;TZID=America/Anchorage:20251011T100000
DTEND;TZID=America/Anchorage:20251011T180000
DTSTAMP:20260422T052324
CREATED:20250217T094229Z
LAST-MODIFIED:20250217T094229Z
UID:10000884-1760176800-1760205600@accurateadvantage.us
SUMMARY:Intro To Long Range – OPEN
DESCRIPTION:This course facilitates the establishment of the fundamentals most necessary to long-range shooting. As an intro\, we overview the major “pillars” that provide you the most success in your long-range goals. This one-day course is for the competitor\, the hunter\, the hobbyist\, or the curious looking to up their game or quench a curiosity about performance at distance. This is a great prep course for those looking to get into PRS! More info on Alaska PRS can be found HERE! \nTopics covered include safety absolutes\, platform imperatives\, firing process\, basic ballistics\, atmospheric conditions\, calculating and proving DOPE\, understanding repeatable precision and accuracy\, wind call and corrections\, and more. Shooters will work in spotter / shooter teams and will cover an incredible amount of ground in a short amount of time. \nNote that this is not a shooting fundamentals course – students must possess an existing competency in 200 to 300-yard precision / accuracy from the prone or benchrest position. \nPreferred is for the student of this course to have completed either our Intermediate Bolt Rifle 201\, or MidRange Practical Rifle\, but previous training with us is not required. Call with questions or to discuss if this course is a good fit for you! \nTotal Course Length: 8 hours \nPrerequisite Course(s):\nIntermediate Bolt Rifle level of competency\nMid-range Practical Rifle level of competency \nRequired Equipment/Gear: \n\nCenterfire rifle minimum caliber 6mm / .243 – must be sighted in for 100 yards no exceptions\nScope / Optic – variable power recommended\, minimum power recommended for optic top range is 10s\, example\, 2-10x\, better would be 5-25x or greater\, call with questions about optics.\nOptic can be MIL or MOA but must have a reticle with subtensions AND the optic must be equipped with an external turret that can be adjusted incrementally for elevation. Calibrated windage adjustment or subtensions are beneficial\, but not required for this course. Need to borrow an optic? Contact us for details!\nBallistic Calculator – Kestrel or phone app such as Hornady 4DOF\, Strelok Pro\, AB\, TRASOL\, or ect call with questions\n120-200 rounds of ammo\nBipod or sandbag for front rifle rest\n\nAvailable:  \n\nRental firearms – Basic Bolt Rifle ($50) Premium Bolt Rifle ($100) email for available models\n\nRental Package Includes: Bolt Action Rifle\, Leupold optic\, anti-cant device\, magazines (if applicable)\, Bipod\, Shooting mat\, and observation equipment.\nRentals are required to shoot school provided factory ammo which is invoiced after class per rounds fired.
URL:https://accurateadvantage.us/calendar/intro-to-long-range-open-6/
LOCATION:Upper Susitna Shooters Association Range\, Mile 94 Parks Highway\, Talkeetna\, AK\, 99676
CATEGORIES:Rifle Courses
ORGANIZER;CN="Accurate Advantage":MAILTO:info@accurateadvantage.us
GEO:62.0719718;-150.0584357
X-APPLE-STRUCTURED-LOCATION;VALUE=URI;X-ADDRESS=Upper Susitna Shooters Association Range Mile 94 Parks Highway Talkeetna AK 99676;X-APPLE-RADIUS=500;X-TITLE=Mile 94 Parks Highway:geo:-150.0584357,62.0719718
END:VEVENT
END:VCALENDAR