BEGIN:VCALENDAR
VERSION:2.0
PRODID:-//Accurate Advantage - ECPv6.15.20//NONSGML v1.0//EN
CALSCALE:GREGORIAN
METHOD:PUBLISH
X-WR-CALNAME:Accurate Advantage
X-ORIGINAL-URL:https://accurateadvantage.us
X-WR-CALDESC:Events for Accurate Advantage
REFRESH-INTERVAL;VALUE=DURATION:PT1H
X-Robots-Tag:noindex
X-PUBLISHED-TTL:PT1H
BEGIN:VTIMEZONE
TZID:America/Anchorage
BEGIN:DAYLIGHT
TZOFFSETFROM:-0900
TZOFFSETTO:-0800
TZNAME:AKDT
DTSTART:20250309T110000
END:DAYLIGHT
BEGIN:STANDARD
TZOFFSETFROM:-0800
TZOFFSETTO:-0900
TZNAME:AKST
DTSTART:20251102T100000
END:STANDARD
BEGIN:DAYLIGHT
TZOFFSETFROM:-0900
TZOFFSETTO:-0800
TZNAME:AKDT
DTSTART:20260308T110000
END:DAYLIGHT
BEGIN:STANDARD
TZOFFSETFROM:-0800
TZOFFSETTO:-0900
TZNAME:AKST
DTSTART:20261101T100000
END:STANDARD
BEGIN:DAYLIGHT
TZOFFSETFROM:-0900
TZOFFSETTO:-0800
TZNAME:AKDT
DTSTART:20270314T110000
END:DAYLIGHT
BEGIN:STANDARD
TZOFFSETFROM:-0800
TZOFFSETTO:-0900
TZNAME:AKST
DTSTART:20271107T100000
END:STANDARD
END:VTIMEZONE
BEGIN:VEVENT
DTSTART;TZID=America/Anchorage:20260531T130000
DTEND;TZID=America/Anchorage:20260531T170000
DTSTAMP:20260422T072359
CREATED:20251223T181447Z
LAST-MODIFIED:20260320T073929Z
UID:10000929-1780232400-1780246800@accurateadvantage.us
SUMMARY:Kodiak Concealed Carry Course – Day 2
DESCRIPTION:Hosted in Partnership with Kodiak Tactical\, register in store\, or visit us online. \nThis course is for anyone 21 or older who wishes to obtain a concealed handgun permit from the State of Alaska. Permits currently include NICS exemption\, are currently reciprocal with 38 states\, and are valid for ~5 years\, expiring on your birthday in the 5th year. \n\n\nDay 1: Click HERE for more info about classroom day \nDay 2: Through a series of scenario-based drills\, students will refresh basic marksmanship skills and will develop and demonstrate safe and effective firearm handling. Presentation and recovery from and back to a holster\, efficient reloads\, and effective malfunction clearing are learned as platform mastery is encouraged. Students will engage targets from a variety of defensive distances and will be coached through critical decision making within the defensive mindset. \nWhat: CHP Classroom – Day 1\nWhen: Saturday\, May 30th\nTime: 10:00am-6:00pm\nLocation: KISA Indoor Shooting Range / Monashka Indoor Range\nClassroom Only\nAND\nWhat: CHP Range – Day 2\nWhen: Sunday\, May 31st\nTime: 1:00pm-5:00pm\nLocation: KISA Indoor Shooting Range / Monashka Indoor Range\nRange: Indoor Shooting Bay \nRound Count: 150-200 centerfire only (no rimfire)\nCourse Cost: $225 (Contact us about our military / LE discount!) \nStudents will be issued and must pass a written test as well as a shooting proficiency test for course completion.  \nPrevious handgun experience (even minimal) is required for this course. At AAAK we believe that the choice to live a protected lifestyle should come after a solid foundation of safety\, marksmanship and function has been established. Contact us with any questions! \nClick here to view info about handgun courses offered by Phalanx Academy\nClick here to view info about handgun courses offered by Accurate Advantage \nStudents are encouraged to bring a gun they already own. Firearms will be provided if a personal gun becomes unusable or if fit and function difficulties are effecting safety.\nA sturdy belt\, outside the waistband hip holster or an approved concealed carry holster\, and magazine pouch are also required\, but can be borrowed from Accurate Advantage for this course.
URL:https://accurateadvantage.us/calendar/kodiak-concealed-carry-course-day-2-2/
LOCATION:KISA Indoor Range – Kodiak\, 8625 Monashka Bay Rd\, Kodiak City\, AK\, 99615\, United States
CATEGORIES:Carry Tailored / Concealed Carry
ORGANIZER;CN="Accurate Advantage":MAILTO:info@accurateadvantage.us
END:VEVENT
END:VCALENDAR