BEGIN:VCALENDAR
VERSION:2.0
PRODID:-//Accurate Advantage - ECPv6.15.15//NONSGML v1.0//EN
CALSCALE:GREGORIAN
METHOD:PUBLISH
X-WR-CALNAME:Accurate Advantage
X-ORIGINAL-URL:https://accurateadvantage.us
X-WR-CALDESC:Events for Accurate Advantage
REFRESH-INTERVAL;VALUE=DURATION:PT1H
X-Robots-Tag:noindex
X-PUBLISHED-TTL:PT1H
BEGIN:VTIMEZONE
TZID:America/Anchorage
BEGIN:DAYLIGHT
TZOFFSETFROM:-0900
TZOFFSETTO:-0800
TZNAME:AKDT
DTSTART:20250309T110000
END:DAYLIGHT
BEGIN:STANDARD
TZOFFSETFROM:-0800
TZOFFSETTO:-0900
TZNAME:AKST
DTSTART:20251102T100000
END:STANDARD
BEGIN:DAYLIGHT
TZOFFSETFROM:-0900
TZOFFSETTO:-0800
TZNAME:AKDT
DTSTART:20260308T110000
END:DAYLIGHT
BEGIN:STANDARD
TZOFFSETFROM:-0800
TZOFFSETTO:-0900
TZNAME:AKST
DTSTART:20261101T100000
END:STANDARD
BEGIN:DAYLIGHT
TZOFFSETFROM:-0900
TZOFFSETTO:-0800
TZNAME:AKDT
DTSTART:20270314T110000
END:DAYLIGHT
BEGIN:STANDARD
TZOFFSETFROM:-0800
TZOFFSETTO:-0900
TZNAME:AKST
DTSTART:20271107T100000
END:STANDARD
END:VTIMEZONE
BEGIN:VEVENT
DTSTART;TZID=America/Anchorage:20260503T100000
DTEND;TZID=America/Anchorage:20260503T180000
DTSTAMP:20260420T074045
CREATED:20251224T083145Z
LAST-MODIFIED:20260110T172613Z
UID:10000946-1777802400-1777831200@accurateadvantage.us
SUMMARY:Ladies Only - Concealed Carry Course Day 1 - OPEN
DESCRIPTION:Becoming an Outdoors Woman – Ladies Only Event!\nRegistration opens 1 month prior\, details are linked here. Limited seats available!\nOur Alaska concealed carry course prepares eligible adults (21 and older) to apply for a state concealed handgun permit. Alaska concealed carry permits include a NICS exemption\, are valid for about five years\, (expiring on your birthday in the 5th year) and are accepted in 38 states. \nThis 12-hour class meets all state requirements for classroom instruction and range qualification. \n\nClassroom: Sunday\, May 3rd 10am-6pm Rabbit Creek Shooting Park\nRange: Tuesday\, May 5th\, 5pm-9pm Rabbit Creek Shooting Park OR Wednesday\, May 6th 5pm-9pm Arctic Indoor Range\, Wasilla\n\nYou will learn essential handgun skills\, safe handling practices\, and the legal concepts that guide responsible self-defense. We cover state defense and protection law\, use-of-force principles\, and the responsibilities that come with carrying a concealed handgun. Scenario-based exercises help you understand how to respond in realistic situations. These drills reinforce safe decision-making and practical skill. \nAt the end of the course\, you will take a written test on firearm safety and defense law. You also complete a shooting proficiency test to show competence with your handgun. After you pass\, you will receive the forms required to submit your permit application to the state. The state will mail your approved permit directly to you. \nPrerequisites: Students must possess a Hunter’s Education Certificate \nStudents are encouraged to bring a firearm of their own\, though rental packages are available. 150 rounds of ammo is required\, as well as an outside the waistband hip holster (available to borrow). We provide targets\, backers\, and eye and ear protection. Additional gear including holsters\, mag pouches and belts is available to borrow. Rentals are $15 and include the handgun (pick from more than a dozen options!) extra magazines or speed loaders\, a hip holster\, belt\, and magazine pouch.
URL:https://accurateadvantage.us/calendar/b-o-w-anchorage-concealed-carry-course-day-1-open/
LOCATION:Rabbit Creek Shooting Park\, 15222 Seward Hwy\, Anchorage\, AK\, 99503\, United States
CATEGORIES:Carry Tailored / Concealed Carry
ORGANIZER;CN="Accurate Advantage":MAILTO:info@accurateadvantage.us
GEO:61.0823109;-149.8334358
X-APPLE-STRUCTURED-LOCATION;VALUE=URI;X-ADDRESS=Rabbit Creek Shooting Park 15222 Seward Hwy Anchorage AK 99503 United States;X-APPLE-RADIUS=500;X-TITLE=15222 Seward Hwy:geo:-149.8334358,61.0823109
END:VEVENT
END:VCALENDAR