BEGIN:VCALENDAR
VERSION:2.0
PRODID:-//Accurate Advantage - ECPv6.15.15//NONSGML v1.0//EN
CALSCALE:GREGORIAN
METHOD:PUBLISH
X-ORIGINAL-URL:https://accurateadvantage.us
X-WR-CALDESC:Events for Accurate Advantage
REFRESH-INTERVAL;VALUE=DURATION:PT1H
X-Robots-Tag:noindex
X-PUBLISHED-TTL:PT1H
BEGIN:VTIMEZONE
TZID:America/Anchorage
BEGIN:DAYLIGHT
TZOFFSETFROM:-0900
TZOFFSETTO:-0800
TZNAME:AKDT
DTSTART:20250309T110000
END:DAYLIGHT
BEGIN:STANDARD
TZOFFSETFROM:-0800
TZOFFSETTO:-0900
TZNAME:AKST
DTSTART:20251102T100000
END:STANDARD
BEGIN:DAYLIGHT
TZOFFSETFROM:-0900
TZOFFSETTO:-0800
TZNAME:AKDT
DTSTART:20260308T110000
END:DAYLIGHT
BEGIN:STANDARD
TZOFFSETFROM:-0800
TZOFFSETTO:-0900
TZNAME:AKST
DTSTART:20261101T100000
END:STANDARD
BEGIN:DAYLIGHT
TZOFFSETFROM:-0900
TZOFFSETTO:-0800
TZNAME:AKDT
DTSTART:20270314T110000
END:DAYLIGHT
BEGIN:STANDARD
TZOFFSETFROM:-0800
TZOFFSETTO:-0900
TZNAME:AKST
DTSTART:20271107T100000
END:STANDARD
END:VTIMEZONE
BEGIN:VEVENT
DTSTART;TZID=America/Anchorage:20260220T080000
DTEND;TZID=America/Anchorage:20260221T160000
DTSTAMP:20260420T042025
CREATED:20251223T203406Z
LAST-MODIFIED:20251223T215656Z
UID:10000936-1771574400-1771689600@accurateadvantage.us
SUMMARY:DDS Emergency Trauma Response Class - Kenai
DESCRIPTION:Dynamic Defense Solutions’ Emergency Trauma Response training course is intended to provide individuals who have little to no medical background with the knowledge and skills necessary to respond appropriately to trauma medical emergencies in the pre-hospital setting. This training course combines basic life support methods and techniques from military\, EMS\, and first aid standards to better inform how and when to respond and treat as a first responder in the real world. \nThis course breaks down pre-hospital treatment by using the M.A.R.C.H.E assessment algorithm (explained below) and prioritizes both physiological and treatment focus in those key areas. These key areas of focus are then reinforced with highly realistic hands-on training as well as highly realistic and interactive scenario training that immerses the student creating a far more retainable learning environment. This course is taught by instructors with real world knowledge and experience who are passionate about teaching to a high standard making emergency medical response as simple as possible for anyone from any background. \nDetails and Registration are linked HERE
URL:https://accurateadvantage.us/calendar/dds-emergency-trauma-response-class/
LOCATION:Dynamic Defense Solutions- Kenai\, 41274 Kalifornsky Beach Rd\, Kenai\, AK\, 99611\, United States
CATEGORIES:Medical Training
ORGANIZER;CN="Dynamic Defense Solutions":MAILTO:dynamicdefensesolutionsak@gmail.com
END:VEVENT
BEGIN:VEVENT
DTSTART;TZID=America/Anchorage:20260221T100000
DTEND;TZID=America/Anchorage:20260221T130000
DTSTAMP:20260420T042025
CREATED:20251223T204028Z
LAST-MODIFIED:20260110T163938Z
UID:10000937-1771668000-1771678800@accurateadvantage.us
SUMMARY:Intro To Long Range - Digital or In Person!
DESCRIPTION:Master long range shooting with this comprehensive classroom course designed to build the core knowledge framework for consistent precision at extended distances. \nCourse Details:\n\nLength: 3 classroom hours\nLocation: Birchwood Shooting Park – Classroom 1\nFormat: In-person or live digital attendance – contact us if you’d like to join us digitally from your own gun room! \nPrerequisites: Basic knowledge of mid- to long-range shooting and experience shooting beyond 300 yards\n\nCourse Overview \nThis course is designed to build or refresh the core knowledge framework that supports consistent long-range precision. Whether you join us in the classroom or log in remotely from your own gun room\, you’ll gain a deeper understanding of the concepts that influence performance at extended distances. \nWhat You’ll Learn \nThis course focuses on the classroom-based knowledge elements that most affect long range shooting performance. In a quiet\, focused environment\, build\, refresh\, and troubleshoot these foundations for an enormous advantage on your next range session. \nView Full Course Details HERE!
URL:https://accurateadvantage.us/calendar/intro-to-long-range-digital-or-in-person/
LOCATION:Birchwood Recreational Shooting Park\, Eagle River\, AK\, United States
CATEGORIES:Rifle Courses
ORGANIZER;CN="Accurate Advantage":MAILTO:info@accurateadvantage.us
END:VEVENT
END:VCALENDAR