BEGIN:VCALENDAR
VERSION:2.0
PRODID:-//Accurate Advantage - ECPv6.15.20//NONSGML v1.0//EN
CALSCALE:GREGORIAN
METHOD:PUBLISH
X-ORIGINAL-URL:https://accurateadvantage.us
X-WR-CALDESC:Events for Accurate Advantage
REFRESH-INTERVAL;VALUE=DURATION:PT1H
X-Robots-Tag:noindex
X-PUBLISHED-TTL:PT1H
BEGIN:VTIMEZONE
TZID:America/Anchorage
BEGIN:DAYLIGHT
TZOFFSETFROM:-0900
TZOFFSETTO:-0800
TZNAME:AKDT
DTSTART:20240310T110000
END:DAYLIGHT
BEGIN:STANDARD
TZOFFSETFROM:-0800
TZOFFSETTO:-0900
TZNAME:AKST
DTSTART:20241103T100000
END:STANDARD
BEGIN:DAYLIGHT
TZOFFSETFROM:-0900
TZOFFSETTO:-0800
TZNAME:AKDT
DTSTART:20250309T110000
END:DAYLIGHT
BEGIN:STANDARD
TZOFFSETFROM:-0800
TZOFFSETTO:-0900
TZNAME:AKST
DTSTART:20251102T100000
END:STANDARD
BEGIN:DAYLIGHT
TZOFFSETFROM:-0900
TZOFFSETTO:-0800
TZNAME:AKDT
DTSTART:20260308T110000
END:DAYLIGHT
BEGIN:STANDARD
TZOFFSETFROM:-0800
TZOFFSETTO:-0900
TZNAME:AKST
DTSTART:20261101T100000
END:STANDARD
END:VTIMEZONE
BEGIN:VEVENT
DTSTART;TZID=America/Anchorage:20250906T100000
DTEND;TZID=America/Anchorage:20250906T180000
DTSTAMP:20260424T021942
CREATED:20250217T093714Z
LAST-MODIFIED:20250729T211449Z
UID:10000881-1757152800-1757181600@accurateadvantage.us
SUMMARY:Eagle River Concealed Carry Day 1 – OPEN
DESCRIPTION:Birchwood Shooting Park hosts this 2 day course – Register by calling them: (907) 688-2809 or though our website link HERE. \nThis course is for anyone 21 or more years of age who wishes to obtain a concealed handgun permit from the State of Alaska. Permits currently include NICS exemption\, are currently reciprocal with 37 states\, and are valid for ~5 years\, expiring on your birthday in the 5th year. \n\n\nDay 1: With humor\, a lifetime of personal experience\, and an interactive format\, Accurate Advantage’s staff and a certified law enforcement officer coach students through the basic knowledge\, skill\, and mindset essential for lawful and effective firearm use for protection of self and family. Time flies when you’re having fun and learning from scenarios that actually happened encourages a more applicable understanding of this intense subject. Join us to learn about the law-abiding citizen’s right to justified self-defense. Classroom training on SIRT Laser pistols allows familiarity with presentations from a holster\, proper grip\, stance\, and sight picture giving you an advantage prior to the range qualification on day two. \nDay 2: Click HERE for more info about range day \nWhat: CHP Classroom – Day 1\nWhen: Saturday\, September 6th\nTime: 10:00am-6:00pm\nLocation: Birchwood Recreation & Shooting Park (Driving directions linked HERE)\nClubhouse Building Classroom 1\nAND\nWhat: CHP Range – Day 2\nWhen: Sunday\, September 7th\nTime: 2:00pm-6:00pm\nLocation: Birchwood Recreation & Shooting Park (Driving directions linked HERE)\nRange: E Range \nRound Count: 150-200 centerfire only (no rimfire)\nCourse Cost: Contact Birchwood\n \nStudents will be issued and must pass a written test as well as a shooting proficiency test for course completion.  \nPrevious handgun experience is required for this course. At AAAK we believe that the choice to live a protected lifestyle should come after a solid foundation of safety\, marksmanship and function has been established. Contact us with any questions! info@accurateadvantage.us or (907) 223-8617 \nClick here to view info about our Basic Handgun 101 course or Click here for info about a Private / Customized Instruction Session \nStudents are encouraged to bring a gun they already own. Firearms will be provided if a personal gun becomes unusable or if fit and function difficulties are effecting safety.\nA sturdy belt\, outside the waistband hip holster or an approved concealed carry holster\, and magazine pouch are also required\, but can be borrowed from Accurate Advantage for this course.
URL:https://accurateadvantage.us/calendar/eagle-river-concealed-carry-day-1-open-2/
LOCATION:Birchwood Recreational Shooting Park\, Eagle River\, AK\, United States
CATEGORIES:Carry Tailored / Concealed Carry
ORGANIZER;CN="Accurate Advantage":MAILTO:info@accurateadvantage.us
END:VEVENT
END:VCALENDAR